BEGIN:VCALENDAR
VERSION:2.0
PRODID:Imitheme.com 
BEGIN:VEVENT
UID:20260422T1502031884477823
DTSTAMP;TZID=UTC:2026-04-22 15:02:03
DTSTART;TZID=America/Los_Angeles:20260422T150203
DTEND;TZID=America/Los_Angeles:20260422T150203
SUMMARY:Shiatsu- japoński masaż z diagnostyką brzucha
LOCATION:Instytut Sadkiewicza CPKZ
DESCRIPTION:Shiatsu to rodzaj masażu wywodzącego się z medycyny japońskiej. “Shiatsu” oznacza „naciskać kciukami”, a podczas zabiegu stosowane są różne techniki uciskowe w specjalnie dobranych punktach aktywnych. Shiatsu to japoński masaż łączacy w sobie tradycje dalekowschodnich technik akupresury i praktyk medycznych z zachodnimi metodami masażu. Shiatsu oznacza w języku japońskim \"ucisk kciukami\", jednak w masażu tym terapeuta SPA stosuje również ucisk dłońmi, łokciami, przedramionami oraz stopami Tak jak akupunktura i inne azjatyckie praktyki medyczne, Shiatsu działa z systemem energetycznym ciała, czyli z poszczególnymi meridianami i punktami na nich. Masaż normalizuje przepływ energii w meridianach i porusza zastoje, tym samym prowadząc do poprawy funkcjonowania poszczególnych układów i narządów. Shiatsu łagodzi ból, zmniejsza napięcie mięśni w barkach, szyi i karku, a także pozwala pomagać przy dolegliwościach narządowych i wybranych chorobach. Kurs prowadzony w języku angielskim, tłumaczony na język polski. Certyfikaty po ukończeniu kursu - dyplom Instytutu Sadkiewicz CPKZ - zaświadczenie Ministerstwa Edukacji Narodowej Zakres kursu Poruszane będą wybrane zagadnienia: - Wprowadzenie do masażu Shiatsu. - Wskazania i przeciwwskazania do masażu Shiatsu. - Diagnoza przed masażem Shiatsu. - Wybrane japońskie techniki diagnozy. - Zasady Zen Shiatsu. - Przepływ energii między meridianami a manipulacje podczas masażu. - Ruchy i manipulacje stosowane w Shiatsu. - Ćwiczenia praktyczne w parach. - Czas na pytania uczestników. - Zaleczenie praktyczne. Dodatkowe korzyści: - Udział na żywo i ćwiczenia w kameralnej 12 osobowej grupie - Skrypt i praktyczne ściągi A4 – do wykorzystania w codziennej praktyce. - Możliwość zadawania pytań w trakcie zajęć – nauka z natychmiastową informacją zwrotną. - Praktyczna wiedza oparta na realnych przypadkach – uczysz się od specjalisty z doświadczeniem klinicznym. Organizator: Instytutem Sadkiewicza – Centrum Przyjaznego Kształcenia Zawodowego w Bydgoszczy - niepubliczna placówka kształcenia ustawicznego oraz dokształcania i doskonalenia zawodowego działającą w formach pozaszkolnych zgodniez ustawą o systemie oświaty.Zaświadczenie o wpisie do ewidencji szkół nr 5/12 wydane przez Prezydenta Miasta Bydgoszczy. Wykładowcą jest Aaron Zizov Dipl.Ac. &C.Hb (Izrael) Aaron Zizov zakończył College of Alternative Medicine w Ramat Gan w Izraelu, gdzie studiował akupunkturę, Shiatsu, ziołolecznictwo. Specjalizował się w ginekologii i akupunkturze kosmetycznej w Zhe Jiang Chinese Medical University, odbywał także staże kliniczne w Zhe Jiang Provincial Hospital (2008r.). W 2009 roku studiował w Izraelu „Chińską astrologię Czterech Filarów Przeznaczenia” pod kierunkiem dr Josepha Ju (USA). Od 2003 roku Aaron Zizov praktykuje akupunkturę i Shiatsu w szpitalach w Tel Awiwie i Jerozolimie. W swojej pracy stosuje akupunkturę, masaż i chińskie ziołolecznictwo oraz dietetykę TMC. Aktualnie pracuje w klinice Maccabi Healthcare. Od 2003 roku prowadzi też prywatną praktykę Zizen w Tel Awiwie. Specjalizuje się w ginekologii, akupunkturze kosmetycznej i leczeniu bólu. Aaron Zizov prowadzi wykłady i szkolenia w Izraelu i w wielu krajach europejskich. Występuje także na międzynarodowych kongresach. Uczy głównie akupunktury oraz diagnostyki chińskiej. Jest też autorem książki The beauty secrets of Chinese Medicine, która wyjaśnia zasady medycyny kosmetycznej w TCM. Przez ostatnie 10 lat zgłębia tajniki chińskiej astrologii oraz metod diagnostycznych, ze szczególnym uwzględnieniem aspektów emocjonalnych podczas procesu diagnozy.   Zachęcamy do szkolenia : dr Józef Sadkiewicz- Instytut Sadkiewicza CPKZ Bydgoszcz   Do zobaczenia w Bydgoszczy www.instytut-sadkiewicza.plRegulamin finansowy kursu 1. Uczestnikowi przysługuje prawo odstąpienia od umowy bez podawania przyczyny w terminie 14 dni od daty jej zawarcia – zgłoszenia chęci udziału w kursie (wiadomość e-mail, zgłoszenie telefoniczne). W takiej sytuacji cała kwota wpłaty zostanie zwrócona na rachunek bankowy. Aby odstąpić od umowy należy poinformować o swojej decyzji pisząc na adres e-mail: sekretariat@sadkiewicz.pl 2. Po terminie 14 dni od daty zawarcia umowy wpłacona kwota nie będzie zwracana i przechodzi na koszty organizacji kursu. Możliwe jest przeniesienie wpłaconej kwoty na inną osobę wcześniej nie zgłoszoną (zmiana uczestnika kursu) lub przeznaczenie wpłaconej kwoty na uczestnictwo w szkoleniu w innym terminie. 3. Organizator kursu zastrzega sobie prawo do możliwości odwołania kursu 14 dni przed jego rozpoczęciem kursu i poinformowania o tym wszystkich uczestników. 4. Istnieje możliwość otrzymania dyplomu w języku angielskim za dodatkową opłatą 60 PLN. Chęć otrzymania dyplomu w języku angielskim należy zgłosić na 7 dni przed planowanym szkoleniem drogą mailową na adres: sekretariat@sadkiewicz.pl   PROSIMY O ZABRANIE: - Wygodnego obuwia - stroju sportowego   Miejsce warsztatów: Instytut Sadkiewicza CPKZ ul. Startowa 2, 85-744 BydgoszczWykładowca:  Aaron Zizov Dipl.Ac. &C.Hb (Izrael)Szkolenie odbywa się:  od godz. 9:oo - 17:ooFormuła szkolenia: stacjonarnie Aaron Zizov zakończył College of Alternative Medicine w Ramat Gan w Izraelu, gdzie studiował akupunkturę, Shiatsu, ziołolecznictwo. Specjalizował się w ginekologii i akupunkturze kosmetycznej w Zhe Jiang Chinese Medical University, odbywał także staże kliniczne w Zhe Jiang Provincial Hospital (2008r.). W 2009 roku studiował w Izraelu „Chińską astrologię Czterech Filarów Przeznaczenia” pod kierunkiem dr Josepha Ju (USA). Od 2003 roku Aaron Zizov praktykuje akupunkturę i Shiatsu w szpitalach w Tel Awiwie i Jerozolimie. W swojej pracy stosuje akupunkturę, masaż i chińskie ziołolecznictwo oraz dietetykę TMC. Aktualnie pracuje w klinice Maccabi Healthcare. Od 2003 roku prowadzi też prywatną praktykę Zizen w Tel Awiwie. Specjalizuje się w ginekologii, akupunkturze kosmetycznej i leczeniu bólu. Aaron Zizov prowadzi wykłady i szkolenia w Izraelu i w wielu krajach europejskich. Występuje także na międzynarodowych kongresach. Uczy głównie akupunktury oraz diagnostyki chińskiej. Jest też autorem książki The beauty secrets of Chinese Medicine, która wyjaśnia zasady medycyny kosmetycznej w TCM. Przez ostatnie 10 lat zgłębia tajniki chińskiej astrologii oraz metod diagnostycznych, ze szczególnym uwzględnieniem aspektów emocjonalnych podczas procesu diagnozy. Założyciel i wykładowca w Instytucie Sadkiewicza- CPKZ niepublicznej placówce kształcenia ustawicznego oraz dokształcania i doskonalenia zawodowego działając w formach pozaszkolnych zgodnie z ustawą o systemie oświaty.    
URL:https://instytut-sadkiewicza.pl/eventer/shiatsu-japonski-masaz-z-diagnostyka-brzucha/
END:VEVENT
END:VCALENDAR
